BEGIN:VCALENDAR
VERSION:2.0
PRODID:-//wp-events-plugin.com//7.2.3.1//EN
BEGIN:VEVENT
UID:18@tsvaitrang.de
DTSTART:20241222T193000Z
DTEND:20241222T220000Z
DTSTAMP:20241107T094859Z
URL:https://tsvaitrang.de/events/elbsee-haie-spiel-ehl-oal-nord-5/
SUMMARY:Elbsee Haie - Spiel EHL OAL Nord
DESCRIPTION:Spielort Buchloe\n\nElbsee Haie gegen Gutenberg\n\n&nbsp\;\n\n
ATTACH;FMTTYPE=image/jpeg:https://tsvaitrang.de/wp-content/uploads/2024/11
 /IMG_5590.jpeg
END:VEVENT
END:VCALENDAR