BEGIN:VCALENDAR
VERSION:2.0
PRODID:-//wp-events-plugin.com//7.2.3.1//EN
BEGIN:VEVENT
UID:133@tsvaitrang.de
DTSTART:20260627T100000Z
DTEND:20260627T160000Z
DTSTAMP:20260421T182813Z
URL:https://tsvaitrang.de/events/beachvolleyball-gaudi-turnier-am-27-06-20
 26/
SUMMARY:Beachvolleyball Gaudi-Turnier am 27.06.2026
DESCRIPTION:Wo: Beachvolleyballplatz des TSV Aitrang\n\nWann: am 27.06.2026
 \n\nBeginn\n10.00 Uhr - mit der Absprache der Turnierregeln\nca. 15.00 Uhr
  - Finale\n\nDie Anmeldegebühr pro Team beträgt 20 €\n\nSPIELREGLEMENT
 \n\nJedes Team darf maximal 12 Volleyballer/-innen melden. Unter dem Spiel
 betrieb dürfen nur 6 Spieler/- innen\, auf dem Feld sein\, jedoch mindest
 ens 2 weibliche Spielerinnen. Jeder der drei Sätze vor dem Halbfinale wir
 d bis zum Erreichen der 11 Punkte gespielt. Ab dem Halbfinale werden die P
 latzierungen in 3 Sätzen a 21 Punkte ausgespielt.\n\nANMELDUNG\nbis zum 1
 3.06.2026 persönlich bei Ralf Großmann oder unter Ralf.Grossmann@vodafon
 e.de
END:VEVENT
END:VCALENDAR