BEGIN:VCALENDAR
VERSION:2.0
PRODID:-//wp-events-plugin.com//7.2.3.1//EN
BEGIN:VEVENT
UID:69@tsvaitrang.de
DTSTART:20250322T090000Z
DTEND:20250322T120000Z
DTSTAMP:20250222T131113Z
URL:https://tsvaitrang.de/events/altpapiersammlung-des-tsv-aitrang/
SUMMARY:Altpapiersammlung des TSV Aitrang
DESCRIPTION:Der TSV Aitrang sammelt am Samstag 22.03.2025 ab 9.00 Uhr im Ge
 meindegebiet Aitrang Altpapier. Bitte das Papier gebündelt an den Straße
 nrand zur Abholung ablegen oder einfach am Feuerwehrhaus beim Sammelcontai
 ner vorbeibringen. Gesammelt wird nur Papier (keine Kartonagen).
ATTACH;FMTTYPE=image/jpeg:https://tsvaitrang.de/wp-content/uploads/2024/10
 /IMG_5132-1.jpeg
END:VEVENT
END:VCALENDAR