BEGIN:VCALENDAR
VERSION:2.0
PRODID:-//wp-events-plugin.com//7.2.3.1//EN
BEGIN:VEVENT
UID:48@tsvaitrang.de
DTSTART:20250115T140000Z
DTEND:20250115T160000Z
DTSTAMP:20250113T210953Z
URL:https://tsvaitrang.de/events/6-gemeinde-kinder-ski-training/
SUMMARY:6-Gemeinde-Kinder-Ski-Training
DESCRIPTION:Unterjoch\n\nTrainingszeit 14-16 Uhr\nAnmeldung bis Dienstag Mi
 ttag (1 Tag vorher)\n\nAdresse\nSpieserlift\n\n\nObergschwend 20\n87541 Ba
 d Hindelang\n\n\n\n\n\n- gerne weitersagen!\n
ATTACH;FMTTYPE=image/jpeg:https://tsvaitrang.de/wp-content/uploads/2025/01
 /IMG_0122.jpeg
END:VEVENT
END:VCALENDAR